BEGIN:VCALENDAR
VERSION:2.0
PRODID:-//True You Collective - ECPv6.15.13//NONSGML v1.0//EN
CALSCALE:GREGORIAN
METHOD:PUBLISH
X-WR-CALNAME:True You Collective
X-ORIGINAL-URL:https://trueyoucollective.com
X-WR-CALDESC:Events for True You Collective
REFRESH-INTERVAL;VALUE=DURATION:PT1H
X-Robots-Tag:noindex
X-PUBLISHED-TTL:PT1H
BEGIN:VTIMEZONE
TZID:UTC
BEGIN:STANDARD
TZOFFSETFROM:+0000
TZOFFSETTO:+0000
TZNAME:UTC
DTSTART:20250101T000000
END:STANDARD
END:VTIMEZONE
BEGIN:VEVENT
DTSTART;TZID=UTC:20260731T173000
DTEND;TZID=UTC:20260731T183000
DTSTAMP:20260422T121349
CREATED:20260403T172818Z
LAST-MODIFIED:20260403T172818Z
UID:10000077-1785519000-1785522600@trueyoucollective.com
SUMMARY:Yoga Class in Arvada\, CO | Friday Night Yoga with Ullas at True You Collective
DESCRIPTION:✨ Yoga with Ullas at True You Collective ✨ \nFriday Yoga with Ullas at True You Collective  | Yoga Class in Arvada\, CO \nLooking for a yoga class near you in Arvada\, Colorado that feels grounding\, intentional\, and accessible? \nExperience yoga\, authentically guided by Ullas with Shiva Moon Yoga. His teaching carries a calm\, steady presence — inviting you to slow down\, breathe\, and move with intention. \nWelcome to Hatha Vinyasa flow with Ullas from Shiva Moon Yoga. \n https://www.instagram.com/shivamoonyoga/ \nThis practice is open to all levels. Whether you’re new to yoga or returning to your mat\, you’re welcome exactly as you are. \n Limited spots. RSVP directly to Ullas at 983-333-8743 \n📅 Event Details\n\nWhen: Every Friday evening\nTime: Class begins promptly at 5:30 PM\nWhere: True You Collective\, 3rd Floor\, Suite 303 (Arvada\, CO)\n\nImportant:Please use the stairs located in the center of the building after entering.There is no elevator in the building. \n\nClass Experience\nThis is a Hatha Vinyasa-style flow paired with breath\, dynamic sequencing\, and moments of stillness. \nEach class includes: \n\nCentering meditation and breathwork\nWarm-up movements and seated postures\nSun salutations building into standing and peak postures\nFloor work\, twists\, and releasing sequences\nSavasana for deep rest and integration\nClosing connection to heart\, center\, and inner stillness\n\nThis style supports both physical strength and nervous system regulation\, allowing you to move\, release\, and reconnect. \n\n🧘‍♀️ Class Details\n\nInstructor: Ullas | Shiva Moon Yoga ***https://www.instagram.com/shivamoonyoga/\nClass Size: Limited to 12 participants — please RSVP **983-333-8743\nLevel: All levels welcome\n\n\nPayment\nPlease pay in person $20 : \n\nCash\nVenmo\n\n\nWhat’s Provided\nMats\, pillows\, and blankets are available for up to 12 guests. \nYou’re also welcome to bring anything that helps you feel more supported: \n\nYoga mat\nBlanket\nPillow or bolster\nWater\n\n\nHave Questions?\nFor questions about the yoga class\, please reach out directly to Ullas at 983-333-8743 \nPlease note: True You Collective is the host venue and is unable to answer event-specific questions.
URL:https://trueyoucollective.com/event/yoga-class-in-arvada-co-friday-night-yoga-with-ullas-at-true-you-collective-14/
LOCATION:True You Collective\, 12191 W 64th Ave suite 308\, Arvada\, CO\, 80004\, United States
CATEGORIES:Yoga
ATTACH;FMTTYPE=image/jpeg:https://trueyoucollective.com/wp-content/uploads/2026/02/1000024736.jpg
END:VEVENT
END:VCALENDAR