BEGIN:VCALENDAR
VERSION:2.0
PRODID:-//True You Collective - ECPv6.15.13//NONSGML v1.0//EN
CALSCALE:GREGORIAN
METHOD:PUBLISH
X-WR-CALNAME:True You Collective
X-ORIGINAL-URL:https://trueyoucollective.com
X-WR-CALDESC:Events for True You Collective
REFRESH-INTERVAL;VALUE=DURATION:PT1H
X-Robots-Tag:noindex
X-PUBLISHED-TTL:PT1H
BEGIN:VTIMEZONE
TZID:UTC
BEGIN:STANDARD
TZOFFSETFROM:+0000
TZOFFSETTO:+0000
TZNAME:UTC
DTSTART:20250101T000000
END:STANDARD
END:VTIMEZONE
BEGIN:VEVENT
DTSTART;TZID=UTC:20260402T180000
DTEND;TZID=UTC:20260402T190000
DTSTAMP:20260422T121732
CREATED:20260402T232353Z
LAST-MODIFIED:20260402T232353Z
UID:10000039-1775152800-1775156400@trueyoucollective.com
SUMMARY:Sound Bath in Arvada\, CO | Thursday 6PM at True You Collective
DESCRIPTION:Join our weekly sound baths in Arvada\, CO every Thursday at 6PM at True You Collective. Experience deep nervous system relaxation through immersive sound healing with Drift Sonic Wellness. \nInsta – @drift.sonicwellness \nWeb – driftsonicwellness.com \n\nThursday Sound Bath | True You Collective (Room 303)\nLooking for a sound bath near you in Arvada\, Colorado? Join us every Thursday evening at True You Collective for a deeply immersive sound healing experience designed to support nervous system regulation\, relaxation\, and full-body recalibration. \nThis weekly offering is held in Room 303 and is ideal for anyone seeking relief from stress\, emotional tension\, or physical discomfort. \nThrough the power of sound\, you’ll be guided into a state of stillness where the body can naturally release\, restore\, and reset from within. \nWeekly themes vary. See schedule for more details. \n\nEvent Details\n\nDay: Every Thursday\nTime: 6:00 PM\nLocation: True You Collective\, Room 303 (Arvada\, CO)\n\n\nAbout the Practitioner: Neena Raquel\nHello\, I’m Neena Raquel — founder of Drift Sonic Wellness and a sound bath practitioner who traded burnout for bowls. \nLong before I ever heard a singing bowl\, I was already drawn to healing — training in massage therapy and energy modalities\, quietly building a foundation I didn’t yet have a name for. For seven years I carried that alongside a 9-to-5\, until the weight of burnout made the choice for me. I walked away — terrified and liberated in equal measure — and let myself follow the thread. It led me to the moment I first heard a crystal singing bowl ring out across a room and felt something in me exhale for the first time in years. I knew then that this was the work I was meant to do. \nMy work is rooted in a simple belief: the body knows how to heal. When we quiet the noise\, release what we’re holding\, and restore balance to our nervous system\, something profound becomes possible. Sound is how I help people get there — and what fuels my passion every single time is watching someone walk in wound tight and walk out transformed. That moment of visible release\, that shift in someone’s whole being\, is why I show up. \nAll of my sessions are intentionally designed\, science-informed\, and deeply felt. \nSound heals. Science agrees. Come drift. \nInsta – @drift.sonicwellness \nWeb – driftsonicwellness.com
URL:https://trueyoucollective.com/event/sound-bath-in-arvada-co-thursday-6pm-at-true-you-collective/
LOCATION:True You Collective\, 12191 W 64th Ave suite 308\, Arvada\, CO\, 80004\, United States
CATEGORIES:Other Events
ATTACH;FMTTYPE=image/jpeg:https://trueyoucollective.com/wp-content/uploads/2026/04/IMG-20260128-WA0005-1.jpeg
END:VEVENT
END:VCALENDAR