BEGIN:VCALENDAR
VERSION:2.0
PRODID:-//True You Collective - ECPv6.15.13//NONSGML v1.0//EN
CALSCALE:GREGORIAN
METHOD:PUBLISH
X-ORIGINAL-URL:https://trueyoucollective.com
X-WR-CALDESC:Events for True You Collective
REFRESH-INTERVAL;VALUE=DURATION:PT1H
X-Robots-Tag:noindex
X-PUBLISHED-TTL:PT1H
BEGIN:VTIMEZONE
TZID:UTC
BEGIN:STANDARD
TZOFFSETFROM:+0000
TZOFFSETTO:+0000
TZNAME:UTC
DTSTART:20250101T000000
END:STANDARD
END:VTIMEZONE
BEGIN:VEVENT
DTSTART;TZID=UTC:20260501T173000
DTEND;TZID=UTC:20260501T183000
DTSTAMP:20260422T153008
CREATED:20260403T172327Z
LAST-MODIFIED:20260403T172327Z
UID:10000066-1777656600-1777660200@trueyoucollective.com
SUMMARY:Yoga Class in Arvada\, CO | Friday Night Yoga with Ullas at True You Collective
DESCRIPTION:✨ Yoga with Ullas at True You Collective ✨ \nFriday Yoga with Ullas at True You Collective  | Yoga Class in Arvada\, CO \nLooking for a yoga class near you in Arvada\, Colorado that feels grounding\, intentional\, and accessible? \nExperience yoga\, authentically guided by Ullas with Shiva Moon Yoga. His teaching carries a calm\, steady presence — inviting you to slow down\, breathe\, and move with intention. \nWelcome to Hatha Vinyasa flow with Ullas from Shiva Moon Yoga. \n https://www.instagram.com/shivamoonyoga/ \nThis practice is open to all levels. Whether you’re new to yoga or returning to your mat\, you’re welcome exactly as you are. \n Limited spots. RSVP directly to Ullas at 983-333-8743 \n📅 Event Details\n\nWhen: Every Friday evening\nTime: Class begins promptly at 5:30 PM\nWhere: True You Collective\, 3rd Floor\, Suite 303 (Arvada\, CO)\n\nImportant:Please use the stairs located in the center of the building after entering.There is no elevator in the building. \n\nClass Experience\nThis is a Hatha Vinyasa-style flow paired with breath\, dynamic sequencing\, and moments of stillness. \nEach class includes: \n\nCentering meditation and breathwork\nWarm-up movements and seated postures\nSun salutations building into standing and peak postures\nFloor work\, twists\, and releasing sequences\nSavasana for deep rest and integration\nClosing connection to heart\, center\, and inner stillness\n\nThis style supports both physical strength and nervous system regulation\, allowing you to move\, release\, and reconnect. \n\n🧘‍♀️ Class Details\n\nInstructor: Ullas | Shiva Moon Yoga ***https://www.instagram.com/shivamoonyoga/\nClass Size: Limited to 12 participants — please RSVP **983-333-8743\nLevel: All levels welcome\n\n\nPayment\nPlease pay in person $20 : \n\nCash\nVenmo\n\n\nWhat’s Provided\nMats\, pillows\, and blankets are available for up to 12 guests. \nYou’re also welcome to bring anything that helps you feel more supported: \n\nYoga mat\nBlanket\nPillow or bolster\nWater\n\n\nHave Questions?\nFor questions about the yoga class\, please reach out directly to Ullas at 983-333-8743 \nPlease note: True You Collective is the host venue and is unable to answer event-specific questions.
URL:https://trueyoucollective.com/event/yoga-class-in-arvada-co-friday-night-yoga-with-ullas-at-true-you-collective-3/
LOCATION:True You Collective\, 12191 W 64th Ave suite 308\, Arvada\, CO\, 80004\, United States
CATEGORIES:Yoga
ATTACH;FMTTYPE=image/jpeg:https://trueyoucollective.com/wp-content/uploads/2026/02/1000024736.jpg
END:VEVENT
BEGIN:VEVENT
DTSTART;TZID=UTC:20260508T173000
DTEND;TZID=UTC:20260508T183000
DTSTAMP:20260422T153008
CREATED:20260403T172352Z
LAST-MODIFIED:20260403T172352Z
UID:10000067-1778261400-1778265000@trueyoucollective.com
SUMMARY:Yoga Class in Arvada\, CO | Friday Night Yoga with Ullas at True You Collective
DESCRIPTION:✨ Yoga with Ullas at True You Collective ✨ \nFriday Yoga with Ullas at True You Collective  | Yoga Class in Arvada\, CO \nLooking for a yoga class near you in Arvada\, Colorado that feels grounding\, intentional\, and accessible? \nExperience yoga\, authentically guided by Ullas with Shiva Moon Yoga. His teaching carries a calm\, steady presence — inviting you to slow down\, breathe\, and move with intention. \nWelcome to Hatha Vinyasa flow with Ullas from Shiva Moon Yoga. \n https://www.instagram.com/shivamoonyoga/ \nThis practice is open to all levels. Whether you’re new to yoga or returning to your mat\, you’re welcome exactly as you are. \n Limited spots. RSVP directly to Ullas at 983-333-8743 \n📅 Event Details\n\nWhen: Every Friday evening\nTime: Class begins promptly at 5:30 PM\nWhere: True You Collective\, 3rd Floor\, Suite 303 (Arvada\, CO)\n\nImportant:Please use the stairs located in the center of the building after entering.There is no elevator in the building. \n\nClass Experience\nThis is a Hatha Vinyasa-style flow paired with breath\, dynamic sequencing\, and moments of stillness. \nEach class includes: \n\nCentering meditation and breathwork\nWarm-up movements and seated postures\nSun salutations building into standing and peak postures\nFloor work\, twists\, and releasing sequences\nSavasana for deep rest and integration\nClosing connection to heart\, center\, and inner stillness\n\nThis style supports both physical strength and nervous system regulation\, allowing you to move\, release\, and reconnect. \n\n🧘‍♀️ Class Details\n\nInstructor: Ullas | Shiva Moon Yoga ***https://www.instagram.com/shivamoonyoga/\nClass Size: Limited to 12 participants — please RSVP **983-333-8743\nLevel: All levels welcome\n\n\nPayment\nPlease pay in person $20 : \n\nCash\nVenmo\n\n\nWhat’s Provided\nMats\, pillows\, and blankets are available for up to 12 guests. \nYou’re also welcome to bring anything that helps you feel more supported: \n\nYoga mat\nBlanket\nPillow or bolster\nWater\n\n\nHave Questions?\nFor questions about the yoga class\, please reach out directly to Ullas at 983-333-8743 \nPlease note: True You Collective is the host venue and is unable to answer event-specific questions.
URL:https://trueyoucollective.com/event/yoga-class-in-arvada-co-friday-night-yoga-with-ullas-at-true-you-collective-4/
LOCATION:True You Collective\, 12191 W 64th Ave suite 308\, Arvada\, CO\, 80004\, United States
CATEGORIES:Yoga
ATTACH;FMTTYPE=image/jpeg:https://trueyoucollective.com/wp-content/uploads/2026/02/1000024736.jpg
END:VEVENT
BEGIN:VEVENT
DTSTART;TZID=UTC:20260514T180000
DTEND;TZID=UTC:20260514T190000
DTSTAMP:20260422T153008
CREATED:20260403T161208Z
LAST-MODIFIED:20260403T161220Z
UID:10000061-1778781600-1778785200@trueyoucollective.com
SUMMARY:Sound Bath in Arvada\, CO | Drift Away Every Thursday @ 6PM at True You Collective
DESCRIPTION:Join our weekly sound baths in Arvada\, CO every Thursday at 6PM at True You Collective. Experience deep nervous system relaxation through immersive sound healing with Drift Sonic Wellness. \nInsta – @drift.sonicwellness \nWeb – driftsonicwellness.com \nRSVP ***SPACE IS LIMITED**** Text or Call Neena for RSVP****720-270-0517 \n\nThursday Sound Bath | True You Collective (Room 303)\nLooking for a sound bath near you in Arvada\, Colorado? Join us every Thursday evening at True You Collective for a deeply immersive sound healing experience designed to support nervous system regulation\, relaxation\, and full-body recalibration. \nThis weekly offering is held in Room 303 and is ideal for anyone seeking relief from stress\, emotional tension\, or physical discomfort. \nThrough the power of sound\, you’ll be guided into a state of stillness where the body can naturally release\, restore\, and reset from within. \nWeekly themes vary. See schedule for more details. RSVP ***SPACE IS LIMITED**** Text or Call Neena for RSVP****720-270-0517 \n\nEvent Details\n\nDay: Every Thursday\nTime: 6:00 PM\nWhere: True You Collective\, 3rd Floor\, Suite 303.\n\n\n\nNote: Please use the stairs in the center of the building after entering. There is no elevator in the building.\n\n\n\nWhat to Bring: We provide some light comfort items\, but please bring whatever helps you feel fully supported! We recommend a yoga mat\, blanket\, pillow\, eye covering\, bolster\, and water. \nHave Questions?\nThis experience is lovingly facilitated by Neena with Drift Sonic Wellness at – driftsonicwellness.com \n If you have any questions about the sound bath\, please reach out directly to Neena at 720-270-0517. \n(Please note: True You Collective is our wonderful host venue and is unable to answer event-specific questions.)  \n \n\n\nAbout the Practitioner: Neena Raquel\nHello\, I’m Neena Raquel — founder of Drift Sonic Wellness and a sound bath practitioner who traded burnout for bowls. \nLong before I ever heard a singing bowl\, I was already drawn to healing — training in massage therapy and energy modalities\, quietly building a foundation I didn’t yet have a name for. For seven years I carried that alongside a 9-to-5\, until the weight of burnout made the choice for me. I walked away — terrified and liberated in equal measure — and let myself follow the thread. It led me to the moment I first heard a crystal singing bowl ring out across a room and felt something in me exhale for the first time in years. I knew then that this was the work I was meant to do. \nMy work is rooted in a simple belief: the body knows how to heal. When we quiet the noise\, release what we’re holding\, and restore balance to our nervous system\, something profound becomes possible. Sound is how I help people get there — and what fuels my passion every single time is watching someone walk in wound tight and walk out transformed. That moment of visible release\, that shift in someone’s whole being\, is why I show up. \nAll of my sessions are intentionally designed\, science-informed\, and deeply felt. \nSound heals. Science agrees. Come drift. \nInsta – @drift.sonicwellness \nWeb – driftsonicwellness.com
URL:https://trueyoucollective.com/event/sound-bath-in-arvada-co-drift-away-every-thursday-6pm-at-true-you-collective-3/
LOCATION:True You Collective\, 12191 W 64th Ave suite 308\, Arvada\, CO\, 80004\, United States
CATEGORIES:Other Events
ATTACH;FMTTYPE=image/jpeg:https://trueyoucollective.com/wp-content/uploads/2026/04/IMG-20260128-WA0005-1.jpeg
ORGANIZER;CN="Neena":MAILTO:natural.mystic325@gmail.com
END:VEVENT
BEGIN:VEVENT
DTSTART;TZID=UTC:20260515T173000
DTEND;TZID=UTC:20260515T183000
DTSTAMP:20260422T153008
CREATED:20260403T172410Z
LAST-MODIFIED:20260403T172410Z
UID:10000068-1778866200-1778869800@trueyoucollective.com
SUMMARY:Yoga Class in Arvada\, CO | Friday Night Yoga with Ullas at True You Collective
DESCRIPTION:✨ Yoga with Ullas at True You Collective ✨ \nFriday Yoga with Ullas at True You Collective  | Yoga Class in Arvada\, CO \nLooking for a yoga class near you in Arvada\, Colorado that feels grounding\, intentional\, and accessible? \nExperience yoga\, authentically guided by Ullas with Shiva Moon Yoga. His teaching carries a calm\, steady presence — inviting you to slow down\, breathe\, and move with intention. \nWelcome to Hatha Vinyasa flow with Ullas from Shiva Moon Yoga. \n https://www.instagram.com/shivamoonyoga/ \nThis practice is open to all levels. Whether you’re new to yoga or returning to your mat\, you’re welcome exactly as you are. \n Limited spots. RSVP directly to Ullas at 983-333-8743 \n📅 Event Details\n\nWhen: Every Friday evening\nTime: Class begins promptly at 5:30 PM\nWhere: True You Collective\, 3rd Floor\, Suite 303 (Arvada\, CO)\n\nImportant:Please use the stairs located in the center of the building after entering.There is no elevator in the building. \n\nClass Experience\nThis is a Hatha Vinyasa-style flow paired with breath\, dynamic sequencing\, and moments of stillness. \nEach class includes: \n\nCentering meditation and breathwork\nWarm-up movements and seated postures\nSun salutations building into standing and peak postures\nFloor work\, twists\, and releasing sequences\nSavasana for deep rest and integration\nClosing connection to heart\, center\, and inner stillness\n\nThis style supports both physical strength and nervous system regulation\, allowing you to move\, release\, and reconnect. \n\n🧘‍♀️ Class Details\n\nInstructor: Ullas | Shiva Moon Yoga ***https://www.instagram.com/shivamoonyoga/\nClass Size: Limited to 12 participants — please RSVP **983-333-8743\nLevel: All levels welcome\n\n\nPayment\nPlease pay in person $20 : \n\nCash\nVenmo\n\n\nWhat’s Provided\nMats\, pillows\, and blankets are available for up to 12 guests. \nYou’re also welcome to bring anything that helps you feel more supported: \n\nYoga mat\nBlanket\nPillow or bolster\nWater\n\n\nHave Questions?\nFor questions about the yoga class\, please reach out directly to Ullas at 983-333-8743 \nPlease note: True You Collective is the host venue and is unable to answer event-specific questions.
URL:https://trueyoucollective.com/event/yoga-class-in-arvada-co-friday-night-yoga-with-ullas-at-true-you-collective-5/
LOCATION:True You Collective\, 12191 W 64th Ave suite 308\, Arvada\, CO\, 80004\, United States
CATEGORIES:Yoga
ATTACH;FMTTYPE=image/jpeg:https://trueyoucollective.com/wp-content/uploads/2026/02/1000024736.jpg
END:VEVENT
BEGIN:VEVENT
DTSTART;TZID=UTC:20260521T180000
DTEND;TZID=UTC:20260521T190000
DTSTAMP:20260422T153008
CREATED:20260403T161248Z
LAST-MODIFIED:20260403T161248Z
UID:10000062-1779386400-1779390000@trueyoucollective.com
SUMMARY:Sound Bath in Arvada\, CO | Drift Away Every Thursday @ 6PM at True You Collective
DESCRIPTION:Join our weekly sound baths in Arvada\, CO every Thursday at 6PM at True You Collective. Experience deep nervous system relaxation through immersive sound healing with Drift Sonic Wellness. \nInsta – @drift.sonicwellness \nWeb – driftsonicwellness.com \nRSVP ***SPACE IS LIMITED**** Text or Call Neena for RSVP****720-270-0517 \n\nThursday Sound Bath | True You Collective (Room 303)\nLooking for a sound bath near you in Arvada\, Colorado? Join us every Thursday evening at True You Collective for a deeply immersive sound healing experience designed to support nervous system regulation\, relaxation\, and full-body recalibration. \nThis weekly offering is held in Room 303 and is ideal for anyone seeking relief from stress\, emotional tension\, or physical discomfort. \nThrough the power of sound\, you’ll be guided into a state of stillness where the body can naturally release\, restore\, and reset from within. \nWeekly themes vary. See schedule for more details. RSVP ***SPACE IS LIMITED**** Text or Call Neena for RSVP****720-270-0517 \n\nEvent Details\n\nDay: Every Thursday\nTime: 6:00 PM\nWhere: True You Collective\, 3rd Floor\, Suite 303.\n\n\n\nNote: Please use the stairs in the center of the building after entering. There is no elevator in the building.\n\n\n\nWhat to Bring: We provide some light comfort items\, but please bring whatever helps you feel fully supported! We recommend a yoga mat\, blanket\, pillow\, eye covering\, bolster\, and water. \nHave Questions?\nThis experience is lovingly facilitated by Neena with Drift Sonic Wellness at – driftsonicwellness.com \n If you have any questions about the sound bath\, please reach out directly to Neena at 720-270-0517. \n(Please note: True You Collective is our wonderful host venue and is unable to answer event-specific questions.)  \n \n\n\nAbout the Practitioner: Neena Raquel\nHello\, I’m Neena Raquel — founder of Drift Sonic Wellness and a sound bath practitioner who traded burnout for bowls. \nLong before I ever heard a singing bowl\, I was already drawn to healing — training in massage therapy and energy modalities\, quietly building a foundation I didn’t yet have a name for. For seven years I carried that alongside a 9-to-5\, until the weight of burnout made the choice for me. I walked away — terrified and liberated in equal measure — and let myself follow the thread. It led me to the moment I first heard a crystal singing bowl ring out across a room and felt something in me exhale for the first time in years. I knew then that this was the work I was meant to do. \nMy work is rooted in a simple belief: the body knows how to heal. When we quiet the noise\, release what we’re holding\, and restore balance to our nervous system\, something profound becomes possible. Sound is how I help people get there — and what fuels my passion every single time is watching someone walk in wound tight and walk out transformed. That moment of visible release\, that shift in someone’s whole being\, is why I show up. \nAll of my sessions are intentionally designed\, science-informed\, and deeply felt. \nSound heals. Science agrees. Come drift. \nInsta – @drift.sonicwellness \nWeb – driftsonicwellness.com
URL:https://trueyoucollective.com/event/sound-bath-in-arvada-co-drift-away-every-thursday-6pm-at-true-you-collective-4/
LOCATION:True You Collective\, 12191 W 64th Ave suite 308\, Arvada\, CO\, 80004\, United States
CATEGORIES:Other Events
ATTACH;FMTTYPE=image/jpeg:https://trueyoucollective.com/wp-content/uploads/2026/04/IMG-20260128-WA0005-1.jpeg
ORGANIZER;CN="Neena":MAILTO:natural.mystic325@gmail.com
END:VEVENT
BEGIN:VEVENT
DTSTART;TZID=UTC:20260528T180000
DTEND;TZID=UTC:20260528T190000
DTSTAMP:20260422T153008
CREATED:20260403T161306Z
LAST-MODIFIED:20260403T161306Z
UID:10000063-1779991200-1779994800@trueyoucollective.com
SUMMARY:Sound Bath in Arvada\, CO | Drift Away Every Thursday @ 6PM at True You Collective
DESCRIPTION:Join our weekly sound baths in Arvada\, CO every Thursday at 6PM at True You Collective. Experience deep nervous system relaxation through immersive sound healing with Drift Sonic Wellness. \nInsta – @drift.sonicwellness \nWeb – driftsonicwellness.com \nRSVP ***SPACE IS LIMITED**** Text or Call Neena for RSVP****720-270-0517 \n\nThursday Sound Bath | True You Collective (Room 303)\nLooking for a sound bath near you in Arvada\, Colorado? Join us every Thursday evening at True You Collective for a deeply immersive sound healing experience designed to support nervous system regulation\, relaxation\, and full-body recalibration. \nThis weekly offering is held in Room 303 and is ideal for anyone seeking relief from stress\, emotional tension\, or physical discomfort. \nThrough the power of sound\, you’ll be guided into a state of stillness where the body can naturally release\, restore\, and reset from within. \nWeekly themes vary. See schedule for more details. RSVP ***SPACE IS LIMITED**** Text or Call Neena for RSVP****720-270-0517 \n\nEvent Details\n\nDay: Every Thursday\nTime: 6:00 PM\nWhere: True You Collective\, 3rd Floor\, Suite 303.\n\n\n\nNote: Please use the stairs in the center of the building after entering. There is no elevator in the building.\n\n\n\nWhat to Bring: We provide some light comfort items\, but please bring whatever helps you feel fully supported! We recommend a yoga mat\, blanket\, pillow\, eye covering\, bolster\, and water. \nHave Questions?\nThis experience is lovingly facilitated by Neena with Drift Sonic Wellness at – driftsonicwellness.com \n If you have any questions about the sound bath\, please reach out directly to Neena at 720-270-0517. \n(Please note: True You Collective is our wonderful host venue and is unable to answer event-specific questions.)  \n \n\n\nAbout the Practitioner: Neena Raquel\nHello\, I’m Neena Raquel — founder of Drift Sonic Wellness and a sound bath practitioner who traded burnout for bowls. \nLong before I ever heard a singing bowl\, I was already drawn to healing — training in massage therapy and energy modalities\, quietly building a foundation I didn’t yet have a name for. For seven years I carried that alongside a 9-to-5\, until the weight of burnout made the choice for me. I walked away — terrified and liberated in equal measure — and let myself follow the thread. It led me to the moment I first heard a crystal singing bowl ring out across a room and felt something in me exhale for the first time in years. I knew then that this was the work I was meant to do. \nMy work is rooted in a simple belief: the body knows how to heal. When we quiet the noise\, release what we’re holding\, and restore balance to our nervous system\, something profound becomes possible. Sound is how I help people get there — and what fuels my passion every single time is watching someone walk in wound tight and walk out transformed. That moment of visible release\, that shift in someone’s whole being\, is why I show up. \nAll of my sessions are intentionally designed\, science-informed\, and deeply felt. \nSound heals. Science agrees. Come drift. \nInsta – @drift.sonicwellness \nWeb – driftsonicwellness.com
URL:https://trueyoucollective.com/event/sound-bath-in-arvada-co-drift-away-every-thursday-6pm-at-true-you-collective-5/
LOCATION:True You Collective\, 12191 W 64th Ave suite 308\, Arvada\, CO\, 80004\, United States
CATEGORIES:Other Events
ATTACH;FMTTYPE=image/jpeg:https://trueyoucollective.com/wp-content/uploads/2026/04/IMG-20260128-WA0005-1.jpeg
ORGANIZER;CN="Neena":MAILTO:natural.mystic325@gmail.com
END:VEVENT
BEGIN:VEVENT
DTSTART;TZID=UTC:20260529T173000
DTEND;TZID=UTC:20260529T183000
DTSTAMP:20260422T153008
CREATED:20260403T172428Z
LAST-MODIFIED:20260403T172441Z
UID:10000069-1780075800-1780079400@trueyoucollective.com
SUMMARY:Yoga Class in Arvada\, CO | Friday Night Yoga with Ullas at True You Collective
DESCRIPTION:✨ Yoga with Ullas at True You Collective ✨ \nFriday Yoga with Ullas at True You Collective  | Yoga Class in Arvada\, CO \nLooking for a yoga class near you in Arvada\, Colorado that feels grounding\, intentional\, and accessible? \nExperience yoga\, authentically guided by Ullas with Shiva Moon Yoga. His teaching carries a calm\, steady presence — inviting you to slow down\, breathe\, and move with intention. \nWelcome to Hatha Vinyasa flow with Ullas from Shiva Moon Yoga. \n https://www.instagram.com/shivamoonyoga/ \nThis practice is open to all levels. Whether you’re new to yoga or returning to your mat\, you’re welcome exactly as you are. \n Limited spots. RSVP directly to Ullas at 983-333-8743 \n📅 Event Details\n\nWhen: Every Friday evening\nTime: Class begins promptly at 5:30 PM\nWhere: True You Collective\, 3rd Floor\, Suite 303 (Arvada\, CO)\n\nImportant:Please use the stairs located in the center of the building after entering.There is no elevator in the building. \n\nClass Experience\nThis is a Hatha Vinyasa-style flow paired with breath\, dynamic sequencing\, and moments of stillness. \nEach class includes: \n\nCentering meditation and breathwork\nWarm-up movements and seated postures\nSun salutations building into standing and peak postures\nFloor work\, twists\, and releasing sequences\nSavasana for deep rest and integration\nClosing connection to heart\, center\, and inner stillness\n\nThis style supports both physical strength and nervous system regulation\, allowing you to move\, release\, and reconnect. \n\n🧘‍♀️ Class Details\n\nInstructor: Ullas | Shiva Moon Yoga ***https://www.instagram.com/shivamoonyoga/\nClass Size: Limited to 12 participants — please RSVP **983-333-8743\nLevel: All levels welcome\n\n\nPayment\nPlease pay in person $20 : \n\nCash\nVenmo\n\n\nWhat’s Provided\nMats\, pillows\, and blankets are available for up to 12 guests. \nYou’re also welcome to bring anything that helps you feel more supported: \n\nYoga mat\nBlanket\nPillow or bolster\nWater\n\n\nHave Questions?\nFor questions about the yoga class\, please reach out directly to Ullas at 983-333-8743 \nPlease note: True You Collective is the host venue and is unable to answer event-specific questions.
URL:https://trueyoucollective.com/event/yoga-class-in-arvada-co-friday-night-yoga-with-ullas-at-true-you-collective-6/
LOCATION:True You Collective\, 12191 W 64th Ave suite 308\, Arvada\, CO\, 80004\, United States
CATEGORIES:Yoga
ATTACH;FMTTYPE=image/jpeg:https://trueyoucollective.com/wp-content/uploads/2026/02/1000024736.jpg
END:VEVENT
END:VCALENDAR