BEGIN:VCALENDAR
VERSION:2.0
PRODID:-//True You Collective - ECPv6.15.13//NONSGML v1.0//EN
CALSCALE:GREGORIAN
METHOD:PUBLISH
X-ORIGINAL-URL:https://trueyoucollective.com
X-WR-CALDESC:Events for True You Collective
REFRESH-INTERVAL;VALUE=DURATION:PT1H
X-Robots-Tag:noindex
X-PUBLISHED-TTL:PT1H
BEGIN:VTIMEZONE
TZID:UTC
BEGIN:STANDARD
TZOFFSETFROM:+0000
TZOFFSETTO:+0000
TZNAME:UTC
DTSTART:20250101T000000
END:STANDARD
END:VTIMEZONE
BEGIN:VEVENT
DTSTART;TZID=UTC:20260304T183000
DTEND;TZID=UTC:20260304T193000
DTSTAMP:20260422T151923
CREATED:20260225T183121Z
LAST-MODIFIED:20260225T183241Z
UID:10000030-1772649000-1772652600@trueyoucollective.com
SUMMARY:Wednesday Night Sound Bath with Nicole from My Soul Space
DESCRIPTION:Wednesday Night Sound Bath with Nicole from My Soul Space✨💙\nTrue You Collective | Arvada\, CO \nJoin us Wednesday evenings at True You Collective for a deeply restorative Sound Bath led by Nicole from 6:30pm to 7:30pm. \nThis immersive experience uses crystal singing bowls and frequency-based sound to gently guide into a state of calm. \nMany guests report: \n\n\nA quieted mind \n\n\nEmotional release without needing to “talk it through” \n\n\nDeep physical relaxation \n\n\nImproved sleep that night \n\n\nA feeling of being reset from the inside out \n\n\nThis is not just relaxation. \nPerfect for:\n• Stress relief• Emotional regulation• Grief support• Pain support• Anyone feeling overstimulated or depleted \nCome as you are.Lie back.Receive. \nSpots are limited. Pre-registration recommended. \nTo Sign-up or follow her events visit: https://www.eventbrite.com/o/mysoulspace-111639809341
URL:https://trueyoucollective.com/event/1818/
LOCATION:CO
CATEGORIES:Other Events
ATTACH;FMTTYPE=image/png:https://trueyoucollective.com/wp-content/uploads/2026/02/unnamed.png
ORGANIZER;CN="Nicole Seis":MAILTO:mysoulspace23@gmail.com
END:VEVENT
BEGIN:VEVENT
DTSTART;TZID=UTC:20260311T183000
DTEND;TZID=UTC:20260311T193000
DTSTAMP:20260422T151923
CREATED:20260225T191928Z
LAST-MODIFIED:20260225T191928Z
UID:10000031-1773253800-1773257400@trueyoucollective.com
SUMMARY:Wednesday Night Sound Bath with Nicole from My Soul Space
DESCRIPTION:Wednesday Night Sound Bath with Nicole from My Soul Space✨💙\nTrue You Collective | Arvada\, CO \nJoin us Wednesday evenings at True You Collective for a deeply restorative Sound Bath led by Nicole from 6:30pm to 7:30pm. \nThis immersive experience uses crystal singing bowls and frequency-based sound to gently guide into a state of calm. \nMany guests report: \n\n\nA quieted mind \n\n\nEmotional release without needing to “talk it through” \n\n\nDeep physical relaxation \n\n\nImproved sleep that night \n\n\nA feeling of being reset from the inside out \n\n\nThis is not just relaxation. \nPerfect for:\n• Stress relief• Emotional regulation• Grief support• Pain support• Anyone feeling overstimulated or depleted \nCome as you are.Lie back.Receive. \nSpots are limited. Pre-registration recommended. \nTo Sign-up or follow her events visit: https://www.eventbrite.com/o/mysoulspace-111639809341
URL:https://trueyoucollective.com/event/wednesday-night-sound-bath-with-nicole-from-my-soul-space/
LOCATION:CO
CATEGORIES:Other Events
ATTACH;FMTTYPE=image/png:https://trueyoucollective.com/wp-content/uploads/2026/02/unnamed.png
ORGANIZER;CN="Nicole Seis":MAILTO:mysoulspace23@gmail.com
END:VEVENT
BEGIN:VEVENT
DTSTART;TZID=UTC:20260314T133000
DTEND;TZID=UTC:20260314T150000
DTSTAMP:20260422T151923
CREATED:20260225T174158Z
LAST-MODIFIED:20260225T174158Z
UID:10000026-1773495000-1773500400@trueyoucollective.com
SUMMARY:Same Room-Same Rhythm
DESCRIPTION:This is a meditation series for parents and kids who live in a busy world. Life moves fast. Kids feel it. Parents try to keep up. This parent–child meditation class offers a simple\, supportive way to pause\, reset\, listen\, and reconnect — helping families feel calmer\, more grounded\, and more attuned to one another. Sessions are fun and gentle\, and designed to meet kids exactly where they are— wiggles included. No fixing feelings. No forcing focus.  \nJust practical visual and meditative tools to calm\, connect\, and communicate as a team. This is an opportunity for families build to trust in a slightly amused way.  \nBring water bottles. This is for all levels\, 7+ years old.  \nWe’ll try for 90 minutes\, with snacks and breaks\, but we’ll end at 45-60 minutes depending on the energy of he room!  \nCome for one or drop in to this ongoing series in 2026. \nWHEN: Saturday\, March 14th\, 2026 1:30 pm – 3:00pm \nALSO offering: Ongoing classes so check those dates at https://www.roamtravelwith.in/events \nWHERE: True You Collective at 12191 W 64th Ave\, Arvada\, CO 80004 \nCOST: $20/family (Venmo\, PayPal\, Zelle\, or Cash) \nLIMITED TO 12 FAMILIES\, All levels\, all genders welcome. \nLearn more and sign up soon at RoamTravelWith.in.com/events\nor by texting or calling Liz at 720-822-5314
URL:https://trueyoucollective.com/event/same-room-same-rhythm/
LOCATION:CO
CATEGORIES:Other Events
ATTACH;FMTTYPE=image/jpeg:https://trueyoucollective.com/wp-content/uploads/2026/02/SameRoomSameRhythm.small_.png.jpg
END:VEVENT
BEGIN:VEVENT
DTSTART;TZID=UTC:20260318T183000
DTEND;TZID=UTC:20260318T193000
DTSTAMP:20260422T151923
CREATED:20260225T191950Z
LAST-MODIFIED:20260225T191950Z
UID:10000032-1773858600-1773862200@trueyoucollective.com
SUMMARY:Wednesday Night Sound Bath with Nicole from My Soul Space
DESCRIPTION:Wednesday Night Sound Bath with Nicole from My Soul Space✨💙\nTrue You Collective | Arvada\, CO \nJoin us Wednesday evenings at True You Collective for a deeply restorative Sound Bath led by Nicole from 6:30pm to 7:30pm. \nThis immersive experience uses crystal singing bowls and frequency-based sound to gently guide into a state of calm. \nMany guests report: \n\n\nA quieted mind \n\n\nEmotional release without needing to “talk it through” \n\n\nDeep physical relaxation \n\n\nImproved sleep that night \n\n\nA feeling of being reset from the inside out \n\n\nThis is not just relaxation. \nPerfect for:\n• Stress relief• Emotional regulation• Grief support• Pain support• Anyone feeling overstimulated or depleted \nCome as you are.Lie back.Receive. \nSpots are limited. Pre-registration recommended. \nTo Sign-up or follow her events visit: https://www.eventbrite.com/o/mysoulspace-111639809341
URL:https://trueyoucollective.com/event/wednesday-night-sound-bath-with-nicole-from-my-soul-space-2/
LOCATION:CO
CATEGORIES:Other Events
ATTACH;FMTTYPE=image/png:https://trueyoucollective.com/wp-content/uploads/2026/02/unnamed.png
ORGANIZER;CN="Nicole Seis":MAILTO:mysoulspace23@gmail.com
END:VEVENT
BEGIN:VEVENT
DTSTART;TZID=UTC:20260325T183000
DTEND;TZID=UTC:20260325T193000
DTSTAMP:20260422T151923
CREATED:20260225T192006Z
LAST-MODIFIED:20260225T192006Z
UID:10000033-1774463400-1774467000@trueyoucollective.com
SUMMARY:Wednesday Night Sound Bath with Nicole from My Soul Space
DESCRIPTION:Wednesday Night Sound Bath with Nicole from My Soul Space✨💙\nTrue You Collective | Arvada\, CO \nJoin us Wednesday evenings at True You Collective for a deeply restorative Sound Bath led by Nicole from 6:30pm to 7:30pm. \nThis immersive experience uses crystal singing bowls and frequency-based sound to gently guide into a state of calm. \nMany guests report: \n\n\nA quieted mind \n\n\nEmotional release without needing to “talk it through” \n\n\nDeep physical relaxation \n\n\nImproved sleep that night \n\n\nA feeling of being reset from the inside out \n\n\nThis is not just relaxation. \nPerfect for:\n• Stress relief• Emotional regulation• Grief support• Pain support• Anyone feeling overstimulated or depleted \nCome as you are.Lie back.Receive. \nSpots are limited. Pre-registration recommended. \nTo Sign-up or follow her events visit: https://www.eventbrite.com/o/mysoulspace-111639809341
URL:https://trueyoucollective.com/event/wednesday-night-sound-bath-with-nicole-from-my-soul-space-3/
LOCATION:CO
CATEGORIES:Other Events
ATTACH;FMTTYPE=image/png:https://trueyoucollective.com/wp-content/uploads/2026/02/unnamed.png
ORGANIZER;CN="Nicole Seis":MAILTO:mysoulspace23@gmail.com
END:VEVENT
BEGIN:VEVENT
DTSTART;TZID=UTC:20260328T130000
DTEND;TZID=UTC:20260328T160000
DTSTAMP:20260422T151923
CREATED:20260225T172722Z
LAST-MODIFIED:20260225T172722Z
UID:10000027-1774702800-1774713600@trueyoucollective.com
SUMMARY:Intro to Clairvoyant Meditation
DESCRIPTION:Just scratching the surface of your own spirit? \nWanting to dive into your own abilities and potential? \nThis amusing\, approachable entry point into seeing the world more clearly for yourself is for all levels\, ages 18+. \nTaught primarily through meditation\, it’s a journey of healing yourself first in order to get to a place of neutrality and wonderment. Through a series of meditative tools\, some conversation\, this workshop will leave you feeling rejuvenated and curious\, even more confident in abilities you didn’t think you had— but you do. You just needed the nudge and space for remembrance. Snacks will be provided. Bring your own water bottle. \n$45/person (Venmo\, PayPal\, ApplePay or Cash) \nWHEN: Saturday\, March 28th\, 1 – 4 pm\nWHERE: True You Collective at 12191 W 64th Ave\, Arvada\, CO 80004 \nCOST: $45 per person\nLIMITED TO 35 PEOPLE\, All genders welcome. \nLearn more and sign up soon at RoamTravelWithin.com/events\nor by texting or calling Liz at 720-822-5314 \nGuided by Liz Meitus\nRoamTravelWithin.com/events
URL:https://trueyoucollective.com/event/intro-to-clairvoyant-meditation/
LOCATION:CO
CATEGORIES:Other Events
ATTACH;FMTTYPE=image/jpeg:https://trueyoucollective.com/wp-content/uploads/2026/02/tony-litvyak-nrqI63i6AFg-unsplash-scaled.jpg
END:VEVENT
END:VCALENDAR